BEGIN:VCALENDAR
VERSION:2.0
PRODID:-//AAF Sacramento - ECPv6.15.10//NONSGML v1.0//EN
CALSCALE:GREGORIAN
METHOD:PUBLISH
X-WR-CALNAME:AAF Sacramento
X-ORIGINAL-URL:https://aafsacramento.org
X-WR-CALDESC:Events for AAF Sacramento
REFRESH-INTERVAL;VALUE=DURATION:PT1H
X-Robots-Tag:noindex
X-PUBLISHED-TTL:PT1H
BEGIN:VTIMEZONE
TZID:UTC
BEGIN:STANDARD
TZOFFSETFROM:+0000
TZOFFSETTO:+0000
TZNAME:UTC
DTSTART:20240101T000000
END:STANDARD
END:VTIMEZONE
BEGIN:VEVENT
DTSTART;TZID=UTC:20250923T120000
DTEND;TZID=UTC:20250923T133000
DTSTAMP:20260423T025857
CREATED:20250903T001807Z
LAST-MODIFIED:20250903T001807Z
UID:8969-1758628800-1758634200@aafsacramento.org
SUMMARY:HARNESSING AI TO ENHANCE WHAT YOU ALREADY DO BEST
DESCRIPTION:
URL:https://aafsacramento.org/event/harnessing-ai-to-enhance-what-you-already-do-best/
LOCATION:Runyon Saltzman\, Inc.\, 3249 Quality Drive\, Rancho Cordova\, 95670\, United States
ATTACH;FMTTYPE=image/jpeg:https://aafsacramento.org/wp-content/uploads/2025/09/https___cdn.evbuc_.com_images_1101857023_1934694126863_1_original.jpeg
END:VEVENT
END:VCALENDAR