BEGIN:VCALENDAR
VERSION:2.0
PRODID:-//AAF Sacramento - ECPv6.15.10//NONSGML v1.0//EN
CALSCALE:GREGORIAN
METHOD:PUBLISH
X-WR-CALNAME:AAF Sacramento
X-ORIGINAL-URL:https://aafsacramento.org
X-WR-CALDESC:Events for AAF Sacramento
REFRESH-INTERVAL;VALUE=DURATION:PT1H
X-Robots-Tag:noindex
X-PUBLISHED-TTL:PT1H
BEGIN:VTIMEZONE
TZID:UTC
BEGIN:STANDARD
TZOFFSETFROM:+0000
TZOFFSETTO:+0000
TZNAME:UTC
DTSTART:20230101T000000
END:STANDARD
END:VTIMEZONE
BEGIN:VEVENT
DTSTART;VALUE=DATE:20240530
DTEND;VALUE=DATE:20240603
DTSTAMP:20260426T015718
CREATED:20240221T124847Z
LAST-MODIFIED:20240221T124856Z
UID:8874-1717027200-1717372799@aafsacramento.org
SUMMARY:ADMERICA 2024
DESCRIPTION:ADMERICA provides attendees the opportunity to gain insights from industry professionals from some of the top advertising\, marketing\, and media companies; experience creative excellence at the American Advertising Awards Gala; honor the AAF’s dedicated Professional Chapter members at the Salute to Achievers Breakfast; and they get watch our talented College Chapter members compete in the National Student Advertising Competition.
URL:https://aafsacramento.org/event/admerica-2024/
LOCATION:The Grand America Hotel\, 555 South Main Street\, Salt Lake City\, Utah\, 84111
END:VEVENT
END:VCALENDAR