BEGIN:VCALENDAR
VERSION:2.0
PRODID:-//AAF Sacramento - ECPv6.15.10//NONSGML v1.0//EN
CALSCALE:GREGORIAN
METHOD:PUBLISH
X-WR-CALNAME:AAF Sacramento
X-ORIGINAL-URL:https://aafsacramento.org
X-WR-CALDESC:Events for AAF Sacramento
REFRESH-INTERVAL;VALUE=DURATION:PT1H
X-Robots-Tag:noindex
X-PUBLISHED-TTL:PT1H
BEGIN:VTIMEZONE
TZID:UTC
BEGIN:STANDARD
TZOFFSETFROM:+0000
TZOFFSETTO:+0000
TZNAME:UTC
DTSTART:20210101T000000
END:STANDARD
END:VTIMEZONE
BEGIN:VEVENT
DTSTART;TZID=UTC:20221010T170000
DTEND;TZID=UTC:20221010T180000
DTSTAMP:20260423T091013
CREATED:20221016T193216Z
LAST-MODIFIED:20221016T193216Z
UID:8374-1665421200-1665424800@aafsacramento.org
SUMMARY:AAF Sacramento - Monthly BOD Meeting (October)
DESCRIPTION:AAF Sacramento’s monthly meeting of the Board of Directors. \nMembers and guests are welcome to join our meetings\, either in-person or virtually\, by submitting a request one week prior to the meeting date. \nIf you’d like to attend our next meeting\, please email us at info@aafsacramento.org with the below details\, in order to be included on the calendar invite. \nDetails to include: \n\nFull name\nAAF membership status\nDetails/agenda items you’re interested in discussing
URL:https://aafsacramento.org/event/aaf-sacramento-monthly-bod-meeting-october/
ATTACH;FMTTYPE=image/png:https://aafsacramento.org/wp-content/uploads/2022/10/AAF-american-advertising-federation-unifying-voice.png
ORGANIZER;CN="AAF Sacramento":MAILTO:info@aafsacramento.org
END:VEVENT
END:VCALENDAR