BEGIN:VCALENDAR
VERSION:2.0
PRODID:-//AAF Sacramento - ECPv6.15.10//NONSGML v1.0//EN
CALSCALE:GREGORIAN
METHOD:PUBLISH
X-ORIGINAL-URL:https://aafsacramento.org
X-WR-CALDESC:Events for AAF Sacramento
REFRESH-INTERVAL;VALUE=DURATION:PT1H
X-Robots-Tag:noindex
X-PUBLISHED-TTL:PT1H
BEGIN:VTIMEZONE
TZID:UTC
BEGIN:STANDARD
TZOFFSETFROM:+0000
TZOFFSETTO:+0000
TZNAME:UTC
DTSTART:20250101T000000
END:STANDARD
END:VTIMEZONE
BEGIN:VEVENT
DTSTART;TZID=UTC:20260219T170000
DTEND;TZID=UTC:20260219T200000
DTSTAMP:20260423T031146
CREATED:20260113T205606Z
LAST-MODIFIED:20260113T205606Z
UID:9000-1771520400-1771531200@aafsacramento.org
SUMMARY:AAF-ter Hours Club
DESCRIPTION:
URL:https://aafsacramento.org/event/aaf-ter-hours-club/
LOCATION:mayahuel\, 1200 K Street\, Sacramento\, CA\, 95814\, United States
ORGANIZER;CN="AAF Sacramento":MAILTO:info@aafsacramento.org
END:VEVENT
BEGIN:VEVENT
DTSTART;TZID=UTC:20260319T180000
DTEND;TZID=UTC:20260319T213000
DTSTAMP:20260423T031146
CREATED:20260113T205713Z
LAST-MODIFIED:20260225T033336Z
UID:9004-1773943200-1773955800@aafsacramento.org
SUMMARY:American Advertising Awards Celebration
DESCRIPTION:
URL:https://aafsacramento.org/event/american-advertising-awards-celebration-3/
END:VEVENT
END:VCALENDAR